BEGIN:VCALENDAR
VERSION:2.0
PRODID:-//Heinrich-Hertz-Gymnasium Erfurt - ECPv6.3.3//NONSGML v1.0//EN
CALSCALE:GREGORIAN
METHOD:PUBLISH
X-ORIGINAL-URL:https://www.heinrich-hertz-gymnasium.de
X-WR-CALDESC:Veranstaltungen für Heinrich-Hertz-Gymnasium Erfurt
REFRESH-INTERVAL;VALUE=DURATION:PT1H
X-Robots-Tag:noindex
X-PUBLISHED-TTL:PT1H
BEGIN:VTIMEZONE
TZID:Europe/Berlin
BEGIN:DAYLIGHT
TZOFFSETFROM:+0100
TZOFFSETTO:+0200
TZNAME:CEST
DTSTART:20250330T010000
END:DAYLIGHT
BEGIN:STANDARD
TZOFFSETFROM:+0200
TZOFFSETTO:+0100
TZNAME:CET
DTSTART:20251026T010000
END:STANDARD
END:VTIMEZONE
BEGIN:VEVENT
DTSTART;VALUE=DATE:20250628
DTEND;VALUE=DATE:20250809
DTSTAMP:20260422T135829
CREATED:20250627T165109Z
LAST-MODIFIED:20250627T165109Z
UID:11702-1751068800-1754697599@www.heinrich-hertz-gymnasium.de
SUMMARY:Sommerferien 2025
DESCRIPTION:Wir wünschen erholsame und schöne Sommerferien.
URL:https://www.heinrich-hertz-gymnasium.de/kalendereintrag/sommerferien-2025/
END:VEVENT
BEGIN:VEVENT
DTSTART;TZID=Europe/Berlin:20250825T183000
DTEND;TZID=Europe/Berlin:20250825T193000
DTSTAMP:20260422T135829
CREATED:20250819T073739Z
LAST-MODIFIED:20250820T142409Z
UID:11728-1756146600-1756150200@www.heinrich-hertz-gymnasium.de
SUMMARY:Elternabend
DESCRIPTION:Wir laden Sie herzlich zum Elternabend ein. Bitte beachten Sie die Informationen der Klassenleitung. \nAnschließend findet um 19.30 Uhr in Aula A die Elternsprecherversammlung statt. \nFür Ihre leibliches Wohl ist übrigens auch gesorgt\, die 12. Klassen veranstalten zum Elternabend ein Kuchenbasar zur Finanzierung ihrer Abiturfeiern. Vielleich bringen Sie einen kleinen Kuchenhunger mit.
URL:https://www.heinrich-hertz-gymnasium.de/kalendereintrag/elternabend-3/
END:VEVENT
END:VCALENDAR