BEGIN:VCALENDAR
VERSION:2.0
PRODID:-//Heinrich-Hertz-Gymnasium Erfurt - ECPv6.3.3//NONSGML v1.0//EN
CALSCALE:GREGORIAN
METHOD:PUBLISH
X-ORIGINAL-URL:https://www.heinrich-hertz-gymnasium.de
X-WR-CALDESC:Veranstaltungen für Heinrich-Hertz-Gymnasium Erfurt
REFRESH-INTERVAL;VALUE=DURATION:PT1H
X-Robots-Tag:noindex
X-PUBLISHED-TTL:PT1H
BEGIN:VTIMEZONE
TZID:Europe/Berlin
BEGIN:DAYLIGHT
TZOFFSETFROM:+0100
TZOFFSETTO:+0200
TZNAME:CEST
DTSTART:20260329T010000
END:DAYLIGHT
BEGIN:STANDARD
TZOFFSETFROM:+0200
TZOFFSETTO:+0100
TZNAME:CET
DTSTART:20261025T010000
END:STANDARD
END:VTIMEZONE
BEGIN:VEVENT
DTSTART;TZID=Europe/Berlin:20260207T100000
DTEND;TZID=Europe/Berlin:20260207T130000
DTSTAMP:20260420T200236
CREATED:20260107T104657Z
LAST-MODIFIED:20260205T190359Z
UID:12004-1770458400-1770469200@www.heinrich-hertz-gymnasium.de
SUMMARY:Tag der offenen Tür - 07.02.2026
DESCRIPTION:Wir laden alle Interessierten ein am 07.02.2026 unsere Schule am Tag der offenen Tür von 10:00 bis 13:00 Uhr zu besuchen.\nNeben vielen Informationen zu unserer Schule\, etwa zum Übertritt von der 4. zur 5. Klasse\, gibt es auch wieder spannende Programmpunkte der einzelnen Fächer zu bestaunen.\nHier ist der Plan für den Tag:\n \n \nHier gibts es schonmal unseren Schul-Informations-Flyer zum Stöbern.\n  \n \n \n 
URL:https://www.heinrich-hertz-gymnasium.de/kalendereintrag/tag-der-offenen-tuer-07-02-2026/
END:VEVENT
END:VCALENDAR