BEGIN:VCALENDAR
VERSION:2.0
PRODID:-//Heinrich-Hertz-Gymnasium Erfurt - ECPv6.3.3//NONSGML v1.0//EN
CALSCALE:GREGORIAN
METHOD:PUBLISH
X-WR-CALNAME:Heinrich-Hertz-Gymnasium Erfurt
X-ORIGINAL-URL:https://www.heinrich-hertz-gymnasium.de
X-WR-CALDESC:Veranstaltungen für Heinrich-Hertz-Gymnasium Erfurt
REFRESH-INTERVAL;VALUE=DURATION:PT1H
X-Robots-Tag:noindex
X-PUBLISHED-TTL:PT1H
BEGIN:VTIMEZONE
TZID:Europe/Berlin
BEGIN:DAYLIGHT
TZOFFSETFROM:+0100
TZOFFSETTO:+0200
TZNAME:CEST
DTSTART:20250330T010000
END:DAYLIGHT
BEGIN:STANDARD
TZOFFSETFROM:+0200
TZOFFSETTO:+0100
TZNAME:CET
DTSTART:20251026T010000
END:STANDARD
END:VTIMEZONE
BEGIN:VEVENT
DTSTART;TZID=Europe/Berlin:20251202T190000
DTEND;TZID=Europe/Berlin:20251202T200000
DTSTAMP:20260424T120248
CREATED:20251021T103809Z
LAST-MODIFIED:20251021T103809Z
UID:11845-1764702000-1764705600@www.heinrich-hertz-gymnasium.de
SUMMARY:Informationsveranstaltung für Eltern der 4. Klassen
DESCRIPTION:Liebe Eltern der künftigen 5. Klassen\, \nwir laden Sie herzlich zu einer Informationsveranstaltung mit unserem Schulleiter Herrn Voll ein. \nTermin:    Dienstag\, 02. Dezember 2025\, 19:00 Uhr in der Aula A
URL:https://www.heinrich-hertz-gymnasium.de/kalendereintrag/informationsveranstaltung-fuer-eltern-der-4-klassen/
END:VEVENT
END:VCALENDAR