BEGIN:VCALENDAR
VERSION:2.0
PRODID:-//Heinrich-Hertz-Gymnasium Erfurt - ECPv6.3.3//NONSGML v1.0//EN
CALSCALE:GREGORIAN
METHOD:PUBLISH
X-WR-CALNAME:Heinrich-Hertz-Gymnasium Erfurt
X-ORIGINAL-URL:https://www.heinrich-hertz-gymnasium.de
X-WR-CALDESC:Veranstaltungen für Heinrich-Hertz-Gymnasium Erfurt
REFRESH-INTERVAL;VALUE=DURATION:PT1H
X-Robots-Tag:noindex
X-PUBLISHED-TTL:PT1H
BEGIN:VTIMEZONE
TZID:Europe/Berlin
BEGIN:DAYLIGHT
TZOFFSETFROM:+0100
TZOFFSETTO:+0200
TZNAME:CEST
DTSTART:20210328T010000
END:DAYLIGHT
BEGIN:STANDARD
TZOFFSETFROM:+0200
TZOFFSETTO:+0100
TZNAME:CET
DTSTART:20211031T010000
END:STANDARD
BEGIN:DAYLIGHT
TZOFFSETFROM:+0100
TZOFFSETTO:+0200
TZNAME:CEST
DTSTART:20220327T010000
END:DAYLIGHT
BEGIN:STANDARD
TZOFFSETFROM:+0200
TZOFFSETTO:+0100
TZNAME:CET
DTSTART:20221030T010000
END:STANDARD
END:VTIMEZONE
BEGIN:VEVENT
DTSTART;VALUE=DATE:20211223
DTEND;VALUE=DATE:20220105
DTSTAMP:20260420T153231
CREATED:20211222T150924Z
LAST-MODIFIED:20211222T150924Z
UID:8891-1640217600-1641340799@www.heinrich-hertz-gymnasium.de
SUMMARY:Weihnachtsferien
DESCRIPTION:Wir wünschen Allen erholsame Weihnachtsferien und einen guten Start ins neue Jahr. \nAm 3. und 4. Januar findet kein Unterricht statt. Weitere Informationen gibt es zeitnah hier auf der Homepage.
URL:https://www.heinrich-hertz-gymnasium.de/kalendereintrag/weihnachtsferien-4/
END:VEVENT
END:VCALENDAR